BEGIN:VCALENDAR
VERSION:2.0
PRODID:-//Sacramento LGBT Community Center - ECPv6.15.20//NONSGML v1.0//EN
CALSCALE:GREGORIAN
METHOD:PUBLISH
X-WR-CALNAME:Sacramento LGBT Community Center
X-ORIGINAL-URL:https://saccenter.org
X-WR-CALDESC:Events for Sacramento LGBT Community Center
REFRESH-INTERVAL;VALUE=DURATION:PT1H
X-Robots-Tag:noindex
X-PUBLISHED-TTL:PT1H
BEGIN:VTIMEZONE
TZID:America/Los_Angeles
BEGIN:DAYLIGHT
TZOFFSETFROM:-0800
TZOFFSETTO:-0700
TZNAME:PDT
DTSTART:20220313T100000
END:DAYLIGHT
BEGIN:STANDARD
TZOFFSETFROM:-0700
TZOFFSETTO:-0800
TZNAME:PST
DTSTART:20221106T090000
END:STANDARD
BEGIN:DAYLIGHT
TZOFFSETFROM:-0800
TZOFFSETTO:-0700
TZNAME:PDT
DTSTART:20230312T100000
END:DAYLIGHT
BEGIN:STANDARD
TZOFFSETFROM:-0700
TZOFFSETTO:-0800
TZNAME:PST
DTSTART:20231105T090000
END:STANDARD
BEGIN:DAYLIGHT
TZOFFSETFROM:-0800
TZOFFSETTO:-0700
TZNAME:PDT
DTSTART:20240310T100000
END:DAYLIGHT
BEGIN:STANDARD
TZOFFSETFROM:-0700
TZOFFSETTO:-0800
TZNAME:PST
DTSTART:20241103T090000
END:STANDARD
BEGIN:DAYLIGHT
TZOFFSETFROM:-0800
TZOFFSETTO:-0700
TZNAME:PDT
DTSTART:20250309T100000
END:DAYLIGHT
BEGIN:STANDARD
TZOFFSETFROM:-0700
TZOFFSETTO:-0800
TZNAME:PST
DTSTART:20251102T090000
END:STANDARD
END:VTIMEZONE
BEGIN:VEVENT
DTSTART;TZID=America/Los_Angeles:20240609T120000
DTEND;TZID=America/Los_Angeles:20240609T180000
DTSTAMP:20260422T185932
CREATED:20240322T073513Z
LAST-MODIFIED:20240322T073513Z
UID:11150-1717934400-1717956000@saccenter.org
SUMMARY:Sacramento Pride Festival
DESCRIPTION:sacramentopride.org   June 8 & 9!
URL:https://saccenter.org/event/sacramento-pride-festival-2/
LOCATION:Capital Mall\, 7th Street\, Sacramento\, CA\, 95814\, United States
CATEGORIES:Sacramento Pride
END:VEVENT
BEGIN:VEVENT
DTSTART;TZID=America/Los_Angeles:20240609T110000
DTEND;TZID=America/Los_Angeles:20240609T130000
DTSTAMP:20260422T185932
CREATED:20240322T073405Z
LAST-MODIFIED:20240322T073405Z
UID:11147-1717930800-1717938000@saccenter.org
SUMMARY:Sacramento Pride March
DESCRIPTION:Sacramentopride.org
URL:https://saccenter.org/event/sacramento-pride-march-2/
LOCATION:Southside Park
CATEGORIES:Sacramento Pride
END:VEVENT
BEGIN:VEVENT
DTSTART;TZID=America/Los_Angeles:20240608T120000
DTEND;TZID=America/Los_Angeles:20240608T210000
DTSTAMP:20260422T185932
CREATED:20240322T073235Z
LAST-MODIFIED:20240322T074741Z
UID:11145-1717848000-1717880400@saccenter.org
SUMMARY:Sacramento Pride Festival
DESCRIPTION:Sacramento Pride Festival on June 8 & 9! \nSacramentopride.org
URL:https://saccenter.org/event/sacramento-pride-festival/
LOCATION:Capital Mall\, 7th Street\, Sacramento\, CA\, 95814\, United States
CATEGORIES:Sacramento Pride
END:VEVENT
BEGIN:VEVENT
DTSTART;TZID=America/Los_Angeles:20240427T100000
DTEND;TZID=America/Los_Angeles:20240427T140000
DTSTAMP:20260422T185932
CREATED:20240322T071959Z
LAST-MODIFIED:20240322T071959Z
UID:11131-1714212000-1714226400@saccenter.org
SUMMARY:Pride Volunteer Orientation!
DESCRIPTION:Interested in being a volunteer for Sacramento Pride? Become a volunteer and gain free entry! We will be hosting volunteer orientations every Saturday between 10:00am-2:00pm during the Midtown Farmer’s Market. Stop by\, take the orientation and get signed up to volunteer!
URL:https://saccenter.org/event/pride-volunteer-orientation-5/
LOCATION:CA
CATEGORIES:Sacramento Pride
END:VEVENT
BEGIN:VEVENT
DTSTART;TZID=America/Los_Angeles:20240420T100000
DTEND;TZID=America/Los_Angeles:20240420T140000
DTSTAMP:20260422T185932
CREATED:20240322T071809Z
LAST-MODIFIED:20240322T071809Z
UID:11127-1713607200-1713621600@saccenter.org
SUMMARY:Pride Volunteer Orientation!
DESCRIPTION:Interested in being a volunteer for Sacramento Pride? Become a volunteer and gain free entry! We will be hosting volunteer orientations every Saturday between 10:00am-2:00pm during the Midtown Farmer’s Market. Stop by\, take the orientation and get signed up to volunteer!
URL:https://saccenter.org/event/pride-volunteer-orientation-3/
LOCATION:Sacramento LGBT Community Center – Lavender Heights\, 1015 20th Street\, Sacramento\, CA\, 95811\, United States
CATEGORIES:Sacramento Pride
END:VEVENT
BEGIN:VEVENT
DTSTART;TZID=America/Los_Angeles:20240406T100000
DTEND;TZID=America/Los_Angeles:20240406T140000
DTSTAMP:20260422T185932
CREATED:20240322T071858Z
LAST-MODIFIED:20240322T074811Z
UID:11129-1712397600-1712412000@saccenter.org
SUMMARY:Pride Volunteer Orientation!
DESCRIPTION:Interested in being a volunteer for Sacramento Pride? Become a volunteer and gain free entry! We will be hosting volunteer orientations every Saturday between 10:00am-2:00pm during the Midtown Farmer’s Market. Stop by\, take the orientation and get signed up to volunteer!
URL:https://saccenter.org/event/pride-volunteer-orientation-4/
LOCATION:Sacramento LGBT Community Center – Lavender Heights\, 1015 20th Street\, Sacramento\, CA\, 95811\, United States
CATEGORIES:Sacramento Pride
END:VEVENT
BEGIN:VEVENT
DTSTART;TZID=America/Los_Angeles:20240406T100000
DTEND;TZID=America/Los_Angeles:20240406T140000
DTSTAMP:20260422T185932
CREATED:20240322T071450Z
LAST-MODIFIED:20240322T071450Z
UID:11123-1712397600-1712412000@saccenter.org
SUMMARY:Pride Volunteer Orientation
DESCRIPTION:Interested in being a volunteer for Sacramento Pride? Become a volunteer and gain free entry! We will be hosting volunteer orientations every Saturday between 10:00am-2:00pm during the Midtown Farmer’s Market. Stop by\, take the orientation and get signed up to volunteer!
URL:https://saccenter.org/event/pride-volunteer-orientation/
LOCATION:Sacramento LGBT Community Center – Lavender Heights\, 1015 20th Street\, Sacramento\, CA\, 95811\, United States
CATEGORIES:Sacramento Pride
END:VEVENT
BEGIN:VEVENT
DTSTART;TZID=America/Los_Angeles:20230822T183000
DTEND;TZID=America/Los_Angeles:20230822T203000
DTSTAMP:20260422T185932
CREATED:20230810T211608Z
LAST-MODIFIED:20230810T211608Z
UID:10869-1692729000-1692736200@saccenter.org
SUMMARY:Pride Volunteer Committee Info. Session
DESCRIPTION:Are you interested in being part of the planning committee for the 2024 Sacramento Pride March & Festival? Join us on Tuesday\, August 22 in the Lambda Lounge at the Sacramento LGBT Community Center to learn more! The Pride Committee is composed of volunteers in strategic level leadership roles using their skills and talents to plan and produce the annual March and two-day festival that occurs the second week of June. For more info. you can contact Hollis Sweet at hollis.sweet@saccenter.org
URL:https://saccenter.org/event/pride-volunteer-committee-info-session/
LOCATION:Sacramento LGBT Community Center – Lavender Heights\, 1015 20th Street\, Sacramento\, CA\, 95811\, United States
CATEGORIES:Sacramento Pride
ATTACH;FMTTYPE=image/png:https://saccenter.org/wp-content/uploads/2023/08/Copy-of-2024-SacPride-Committee-Info-Session-1080-×-1080-px.png
ORGANIZER;CN="Hollis Sweet":MAILTO:hollis.sweet@saccenter.org
END:VEVENT
BEGIN:VEVENT
DTSTART;TZID=America/Los_Angeles:20230611T120000
DTEND;TZID=America/Los_Angeles:20230611T180000
DTSTAMP:20260422T185932
CREATED:20230518T233427Z
LAST-MODIFIED:20230518T233737Z
UID:10794-1686484800-1686506400@saccenter.org
SUMMARY:Sacramento Pride (Sunday)
DESCRIPTION:Join us for Northern California’s biggest Pride Celebration weekend. Sacramento Pride Weekend events are produced by the Sacramento LGBT Community Center. Our mission is to create a region where LGBTQ+ people thrive. We work to support the health and wellness of the most marginalized\, advocate for equity and justice\, and build a culturally rich LGBTQ+ community. \nPurchase tickets\, become a vendor\, sponsor\, or volunteer! Find out more at: https://sacramentopride.org/
URL:https://saccenter.org/event/sacramento-pride-sunday/
LOCATION:CA
CATEGORIES:Sacramento Pride
ATTACH;FMTTYPE=image/jpeg:https://saccenter.org/wp-content/uploads/2022/11/Untitled-design-10.jpg
END:VEVENT
BEGIN:VEVENT
DTSTART;TZID=America/Los_Angeles:20230611T110000
DTEND;TZID=America/Los_Angeles:20230611T140000
DTSTAMP:20260422T185932
CREATED:20230518T232942Z
LAST-MODIFIED:20230518T232942Z
UID:10792-1686481200-1686492000@saccenter.org
SUMMARY:Sacramento Pride March
DESCRIPTION:Join thousands of your closest friends to cheer on marchers\, colorful floats\, music\, and much more for the annual Sacramento Pride March. Harkening back to the earliest days of Pride events as protests against oppression\, this event is both a demonstration of activism in our pursuit of equity and social justice as well as a celebration of diverse Lesbian\, Gay\, Bisexual\, Transgender\, Queer\, Intersex\, Asexual\, and two-spirit communities and culture. Free for individual members. For groups\, organizations\, vehicles\, and floats\, there is registration fee and application through EventHub that must be completed: https://sacramentopride.org/pride-march/
URL:https://saccenter.org/event/sacramento-pride-march/
LOCATION:CA
CATEGORIES:Sacramento Pride
ATTACH;FMTTYPE=image/jpeg:https://saccenter.org/wp-content/uploads/2022/11/Untitled-design-10.jpg
END:VEVENT
BEGIN:VEVENT
DTSTART;TZID=America/Los_Angeles:20230610T120000
DTEND;TZID=America/Los_Angeles:20230610T210000
DTSTAMP:20260422T185932
CREATED:20221108T193204Z
LAST-MODIFIED:20240702T152813Z
UID:10517-1686398400-1686430800@saccenter.org
SUMMARY:Sacramento Pride 2023 (Saturday)
DESCRIPTION:Join us for Northern California’s biggest Pride Celebration weekend. Sacramento Pride Weekend events are produced by the Sacramento LGBT Community Center. Our mission is to create a region where LGBTQ+ people thrive. We work to support the health and wellness of the most marginalized\, advocate for equity and justice\, and build a culturally rich LGBTQ+ community. \nPurchase tickets\, become a vendor\, sponsor\, or volunteer! Find out more at: https://sacramentopride.org/
URL:https://saccenter.org/event/sacramento-pride-2023/
LOCATION:CA
CATEGORIES:Sacramento Pride
ATTACH;FMTTYPE=image/jpeg:https://saccenter.org/wp-content/uploads/2022/11/Untitled-design-10.jpg
ORGANIZER;CN="Collin Lourenco":MAILTO:collin.lourenco@saccenter.org
END:VEVENT
END:VCALENDAR