BEGIN:VCALENDAR
VERSION:2.0
PRODID:-//Sacramento LGBT Community Center - ECPv6.15.20//NONSGML v1.0//EN
CALSCALE:GREGORIAN
METHOD:PUBLISH
X-ORIGINAL-URL:https://saccenter.org
X-WR-CALDESC:Events for Sacramento LGBT Community Center
REFRESH-INTERVAL;VALUE=DURATION:PT1H
X-Robots-Tag:noindex
X-PUBLISHED-TTL:PT1H
BEGIN:VTIMEZONE
TZID:America/Los_Angeles
BEGIN:DAYLIGHT
TZOFFSETFROM:-0800
TZOFFSETTO:-0700
TZNAME:PDT
DTSTART:20240310T100000
END:DAYLIGHT
BEGIN:STANDARD
TZOFFSETFROM:-0700
TZOFFSETTO:-0800
TZNAME:PST
DTSTART:20241103T090000
END:STANDARD
BEGIN:DAYLIGHT
TZOFFSETFROM:-0800
TZOFFSETTO:-0700
TZNAME:PDT
DTSTART:20250309T100000
END:DAYLIGHT
BEGIN:STANDARD
TZOFFSETFROM:-0700
TZOFFSETTO:-0800
TZNAME:PST
DTSTART:20251102T090000
END:STANDARD
BEGIN:DAYLIGHT
TZOFFSETFROM:-0800
TZOFFSETTO:-0700
TZNAME:PDT
DTSTART:20260308T100000
END:DAYLIGHT
BEGIN:STANDARD
TZOFFSETFROM:-0700
TZOFFSETTO:-0800
TZNAME:PST
DTSTART:20261101T090000
END:STANDARD
END:VTIMEZONE
BEGIN:VEVENT
DTSTART;TZID=America/Los_Angeles:20250325T183000
DTEND;TZID=America/Los_Angeles:20250325T193000
DTSTAMP:20260423T153518
CREATED:20250228T210919Z
LAST-MODIFIED:20250228T210919Z
UID:11955-1742927400-1742931000@saccenter.org
SUMMARY:Men's Group
DESCRIPTION:A safe space for LGBTQ+ men to come together and find support 6-7:30 p.m. at the midtown location. Discussion topics vary week by week. Email: mentalhealth@saccenter.org for questions! (subject to change)
URL:https://saccenter.org/event/mens-group-18/
LOCATION:Sacramento LGBT Community Center – Lavender Heights\, 1015 20th Street\, Sacramento\, CA\, 95811\, United States
CATEGORIES:Center Groups & Programming
ATTACH;FMTTYPE=image/jpeg:https://saccenter.org/wp-content/uploads/2025/01/Support-Group-FB-Event-Covers_NewMens-1.jpg
END:VEVENT
END:VCALENDAR