BEGIN:VCALENDAR
VERSION:2.0
PRODID:-//Sacramento LGBT Community Center - ECPv6.15.20//NONSGML v1.0//EN
CALSCALE:GREGORIAN
METHOD:PUBLISH
X-WR-CALNAME:Sacramento LGBT Community Center
X-ORIGINAL-URL:https://saccenter.org
X-WR-CALDESC:Events for Sacramento LGBT Community Center
REFRESH-INTERVAL;VALUE=DURATION:PT1H
X-Robots-Tag:noindex
X-PUBLISHED-TTL:PT1H
BEGIN:VTIMEZONE
TZID:America/Los_Angeles
BEGIN:DAYLIGHT
TZOFFSETFROM:-0800
TZOFFSETTO:-0700
TZNAME:PDT
DTSTART:20230312T100000
END:DAYLIGHT
BEGIN:STANDARD
TZOFFSETFROM:-0700
TZOFFSETTO:-0800
TZNAME:PST
DTSTART:20231105T090000
END:STANDARD
BEGIN:DAYLIGHT
TZOFFSETFROM:-0800
TZOFFSETTO:-0700
TZNAME:PDT
DTSTART:20240310T100000
END:DAYLIGHT
BEGIN:STANDARD
TZOFFSETFROM:-0700
TZOFFSETTO:-0800
TZNAME:PST
DTSTART:20241103T090000
END:STANDARD
BEGIN:DAYLIGHT
TZOFFSETFROM:-0800
TZOFFSETTO:-0700
TZNAME:PDT
DTSTART:20250309T100000
END:DAYLIGHT
BEGIN:STANDARD
TZOFFSETFROM:-0700
TZOFFSETTO:-0800
TZNAME:PST
DTSTART:20251102T090000
END:STANDARD
END:VTIMEZONE
BEGIN:VEVENT
DTSTART;TZID=America/Los_Angeles:20241008T180000
DTEND;TZID=America/Los_Angeles:20241008T193000
DTSTAMP:20260423T153224
CREATED:20241006T210736Z
LAST-MODIFIED:20241006T210736Z
UID:11565-1728410400-1728415800@saccenter.org
SUMMARY:18-24 Youth Group
DESCRIPTION:Q-Spot Youth Group (ages 18-24) is every Tuesday evening.\nhttps://saccenter.org/youth  \nWhen: Tuesdays\, 6:00 p.m. – 7:30 p.m.\nWhere: 1015 20th. St.\, Sacramento CA 95811\nFor more info. contact: youth@saccenter.org
URL:https://saccenter.org/event/18-24-youth-group/
LOCATION:Sacramento LGBT Community Center – Lavender Heights\, 1015 20th Street\, Sacramento\, CA\, 95811\, United States
ATTACH;FMTTYPE=image/jpeg:https://saccenter.org/wp-content/uploads/2024/10/YouthGroup18-24.jpg
END:VEVENT
END:VCALENDAR