BEGIN:VCALENDAR
VERSION:2.0
PRODID:-//Sacramento LGBT Community Center - ECPv6.15.20//NONSGML v1.0//EN
CALSCALE:GREGORIAN
METHOD:PUBLISH
X-WR-CALNAME:Sacramento LGBT Community Center
X-ORIGINAL-URL:https://saccenter.org
X-WR-CALDESC:Events for Sacramento LGBT Community Center
REFRESH-INTERVAL;VALUE=DURATION:PT1H
X-Robots-Tag:noindex
X-PUBLISHED-TTL:PT1H
BEGIN:VTIMEZONE
TZID:America/Los_Angeles
BEGIN:DAYLIGHT
TZOFFSETFROM:-0800
TZOFFSETTO:-0700
TZNAME:PDT
DTSTART:20240310T100000
END:DAYLIGHT
BEGIN:STANDARD
TZOFFSETFROM:-0700
TZOFFSETTO:-0800
TZNAME:PST
DTSTART:20241103T090000
END:STANDARD
BEGIN:DAYLIGHT
TZOFFSETFROM:-0800
TZOFFSETTO:-0700
TZNAME:PDT
DTSTART:20250309T100000
END:DAYLIGHT
BEGIN:STANDARD
TZOFFSETFROM:-0700
TZOFFSETTO:-0800
TZNAME:PST
DTSTART:20251102T090000
END:STANDARD
BEGIN:DAYLIGHT
TZOFFSETFROM:-0800
TZOFFSETTO:-0700
TZNAME:PDT
DTSTART:20260308T100000
END:DAYLIGHT
BEGIN:STANDARD
TZOFFSETFROM:-0700
TZOFFSETTO:-0800
TZNAME:PST
DTSTART:20261101T090000
END:STANDARD
END:VTIMEZONE
BEGIN:VEVENT
DTSTART;TZID=America/Los_Angeles:20250218T173000
DTEND;TZID=America/Los_Angeles:20250218T193000
DTSTAMP:20260421T235321
CREATED:20250122T000249Z
LAST-MODIFIED:20250122T000249Z
UID:11779-1739899800-1739907000@saccenter.org
SUMMARY:Transgender Support Group
DESCRIPTION:A supportive group for our Trans Siblings – every 1st & 3rd Tuesday of the month. IN-PERSON. 1st & 3rd Tuesdays of the month from 5:30 p.m. – 7:30 p.m. For more information\, please contact mentalhealth@saccenter.org.
URL:https://saccenter.org/event/transgender-support-group-3/
LOCATION:Sacramento LGBT Community Center – Lavender Heights\, 1015 20th Street\, Sacramento\, CA\, 95811\, United States
ATTACH;FMTTYPE=image/jpeg:https://saccenter.org/wp-content/uploads/2025/01/TransSupportGroup.jpg
END:VEVENT
END:VCALENDAR