BEGIN:VCALENDAR
VERSION:2.0
PRODID:-//Sacramento LGBT Community Center - ECPv6.15.20//NONSGML v1.0//EN
CALSCALE:GREGORIAN
METHOD:PUBLISH
X-ORIGINAL-URL:https://saccenter.org
X-WR-CALDESC:Events for Sacramento LGBT Community Center
REFRESH-INTERVAL;VALUE=DURATION:PT1H
X-Robots-Tag:noindex
X-PUBLISHED-TTL:PT1H
BEGIN:VTIMEZONE
TZID:America/Los_Angeles
BEGIN:DAYLIGHT
TZOFFSETFROM:-0800
TZOFFSETTO:-0700
TZNAME:PDT
DTSTART:20240310T100000
END:DAYLIGHT
BEGIN:STANDARD
TZOFFSETFROM:-0700
TZOFFSETTO:-0800
TZNAME:PST
DTSTART:20241103T090000
END:STANDARD
BEGIN:DAYLIGHT
TZOFFSETFROM:-0800
TZOFFSETTO:-0700
TZNAME:PDT
DTSTART:20250309T100000
END:DAYLIGHT
BEGIN:STANDARD
TZOFFSETFROM:-0700
TZOFFSETTO:-0800
TZNAME:PST
DTSTART:20251102T090000
END:STANDARD
BEGIN:DAYLIGHT
TZOFFSETFROM:-0800
TZOFFSETTO:-0700
TZNAME:PDT
DTSTART:20260308T100000
END:DAYLIGHT
BEGIN:STANDARD
TZOFFSETFROM:-0700
TZOFFSETTO:-0800
TZNAME:PST
DTSTART:20261101T090000
END:STANDARD
END:VTIMEZONE
BEGIN:VEVENT
DTSTART;TZID=America/Los_Angeles:20250417T103000
DTEND;TZID=America/Los_Angeles:20250417T113000
DTSTAMP:20260423T093134
CREATED:20250415T005132Z
LAST-MODIFIED:20250415T005132Z
UID:12153-1744885800-1744889400@saccenter.org
SUMMARY:Chair Yoga (online)
DESCRIPTION:10:30 to 11:30 AM Chair Yoga (Online Only) for all levels! To get the link\, email mentalhealth@saccenter.org 
URL:https://saccenter.org/event/chair-yoga-online/
END:VEVENT
BEGIN:VEVENT
DTSTART;TZID=America/Los_Angeles:20250421T183000
DTEND;TZID=America/Los_Angeles:20250421T193000
DTSTAMP:20260423T093134
CREATED:20250415T000056Z
LAST-MODIFIED:20250415T000056Z
UID:12093-1745260200-1745263800@saccenter.org
SUMMARY:Queer Yoga
DESCRIPTION:Join free Queer Yoga on Monday nights! Every Monday from 6:30 – 7:30 p.m. (subject to change) \nMust bring yoga mat\, yoga block\, towel and water. Must sign waiver upon arrival.  \nGet centered with us! This is accessible to all levels. For more info. please email mentalhealth@saccenter.org
URL:https://saccenter.org/event/queer-yoga-19/
LOCATION:Sacramento LGBT Community Center – Lavender Heights\, 1015 20th Street\, Sacramento\, CA\, 95811\, United States
CATEGORIES:Center Groups & Programming
ATTACH;FMTTYPE=image/png:https://saccenter.org/wp-content/uploads/2024/09/Support-Groups_IG.png
END:VEVENT
BEGIN:VEVENT
DTSTART;TZID=America/Los_Angeles:20250424T103000
DTEND;TZID=America/Los_Angeles:20250424T113000
DTSTAMP:20260423T093134
CREATED:20250415T005241Z
LAST-MODIFIED:20250415T005241Z
UID:12155-1745490600-1745494200@saccenter.org
SUMMARY:Chair Yoga
DESCRIPTION:10:30 to 11:30 AM Chair Yoga (Online Only) for all levels! To get the link\, email mentalhealth@saccenter.org 
URL:https://saccenter.org/event/chair-yoga-2/
CATEGORIES:Center Groups & Programming
END:VEVENT
BEGIN:VEVENT
DTSTART;TZID=America/Los_Angeles:20250428T183000
DTEND;TZID=America/Los_Angeles:20250428T193000
DTSTAMP:20260423T093134
CREATED:20250415T000159Z
LAST-MODIFIED:20250415T000159Z
UID:12095-1745865000-1745868600@saccenter.org
SUMMARY:Queer Yoga
DESCRIPTION:Join free Queer Yoga on Monday nights! Every Monday from 6:30 – 7:30 p.m. (subject to change) \nMust bring yoga mat\, yoga block\, towel and water. Must sign waiver upon arrival.  \nGet centered with us! This is accessible to all levels. For more info. please email mentalhealth@saccenter.org
URL:https://saccenter.org/event/queer-yoga-20/
LOCATION:Sacramento LGBT Community Center – Lavender Heights\, 1015 20th Street\, Sacramento\, CA\, 95811\, United States
CATEGORIES:Center Groups & Programming
ATTACH;FMTTYPE=image/png:https://saccenter.org/wp-content/uploads/2024/09/Support-Groups_IG.png
END:VEVENT
END:VCALENDAR